Workbook

Sheet صورت وضعیت
A1: صندوق سرمایه‌گذاری مشترک ایساتیس پویای یزد
A2: صورت وضعیت پرتفوی
A3: برای ماه منتهی به 1405/05/27

Sheet سهام
A1: صندوق سرمایه‌گذاری مشترک ایساتیس پویای یزد
A2: صورت وضعیت پرتفوی
A3: برای ماه منتهی به 1405/05/27
A4: -1 | B4: سرمایه گذاری ها
A5: -1-1 | C5: سرمایه گذاری در سهام و حق تقدم سهام
K6: تغییرات طی دوره | S6: 1405/05/27
K7: خرید طی دوره | O7: فروش طی دوره
A8: نام شرکت | E8: تعداد | G8: بهای تمام شده | I8: خالص ارزش فروش | K8: تعداد | M8: بهای تمام شده | O8: تعداد | Q8: مبلغ فروش | S8: تعداد | U8: قیمت بازار هر سهم | W8: بهای تمام شده | Y8: خالص ارزش فروش | AA8: درصد به کل دارایی ها
A9: ایران‌ خودرو | E9: 171082000 | G9: 89663066644 | I9: 8.5389047e+10 | K9: 0 | M9: 0 | O9: -171082000 | Q9: 86788389699 | S9: 0 | U9: 0 | W9: 0 | Y9: 0 | AA9: 0
A10: باما | E10: 16232290 | G10: 46896224968 | I10: 4.5211828e+10 | K10: 0 | M10: 0 | O10: -16232290 | Q10: 46368140340 | S10: 0 | U10: 0 | W10: 0 | Y10: 0 | AA10: 0
A11: بانک تجارت | E11: 210000000 | G11: 135521988062 | I11: 110022897600 | K11: 0 | M11: 0 | O11: 0 | Q11: 0 | S11: 210000000 | U11: 803 | W11: 135521988062 | Y11: 167326490100 | AA11: 7.53
A12: بانک ملت | E12: 145951402 | G12: 161098894469 | I12: 1.6017446e+11 | K12: 0 | M12: 0 | O12: 0 | Q12: 0 | S12: 145951402 | U12: 1310 | W12: 161098894469 | Y12: 1.8971839e+11 | AA12: 8.53
A13: پالایش نفت اصفهان | E13: 24700000 | G13: 226859475683 | I13: 241904511030 | K13: 0 | M13: 0 | O13: 0 | Q13: 0 | S13: 24700000 | U13: 11290 | W13: 226859475683 | Y13: 276707389010 | AA13: 12.45
A14: پخش هجرت | E14: 25000000 | G14: 90645758113 | I14: 159507402500 | K14: 0 | M14: 0 | O14: -25000000 | Q14: 162345295672 | S14: 0 | U14: 0 | W14: 0 | Y14: 0 | AA14: 0
A15: چینی ایران | E15: 599999 | G15: 1485589640 | I15: 5.9536101e+08 | K15: 0 | M15: 0 | O15: 0 | Q15: 0 | S15: 599999 | U15: 1000 | W15: 1485589640 | Y15: 5.9536101e+08 | AA15: 0.03
A16: داروسازی دانا | E16: 100000 | G16: 1194148969 | I16: 1216523020 | K16: 0 | M16: 0 | O16: -100000 | Q16: 1402077517 | S16: 0 | U16: 0 | W16: 0 | Y16: 0 | AA16: 0
A17: دارویی و نهاده های زاگرس دارو | E17: 5263616 | G17: 103597972430 | I17: 1.0033245e+11 | K17: 0 | M17: 0 | O17: -5263616 | Q17: 98315841204 | S17: 0 | U17: 0 | W17: 0 | Y17: 0 | AA17: 0
A18: دامداری تلیسه نمونه | E18: 2100000 | G18: 16286548029 | I18: 17461967460 | K18: 0 | M18: 0 | O18: 0 | Q18: 0 | S18: 2100000 | U18: 9250 | W18: 16286548029 | Y18: 19274844750 | AA18: 0.87
A19: رهیاب پیام گستران | E19: 585000 | G19: 4399100550 | I19: 4.290893e+09 | K19: 0 | M19: 0 | O19: 0 | Q19: 0 | S19: 585000 | U19: 6978 | W19: 4399100550 | Y19: 4.0505751e+09 | AA19: 0.18
A20: رینگ اسپرت نور نی ریز | E20: 1325000 | G20: 21649469531 | I20: 2.41521e+10 | K20: 0 | M20: 0 | O20: 0 | Q20: 0 | S20: 1325000 | U20: 18100 | W20: 21649469531 | Y20: 23797115275 | AA20: 1.07
... A50: پویا زرکان آق دره | E50: 0 | G50: 0 | I50: 0 | K50: 1150000 | M50: 170419399859 | O50: -1150000 | Q50: 221831882357 | S50: 0 | U50: 0 | W50: 0 | Y50: 0 | AA50: 0
A51: جمع | E51: =SUM(E9:E50) -> 760163358 | G51: =SUM(G9:G50) -> 1569430914037 | I51: =SUM(I9:I50) -> 1.5852851e+12 | K51: =SUM(K9:K50) -> 473617216 | M51: =SUM(M9:M50) -> 965317338762 | O51: =SUM(O9:O50) -> -317321699 | Q51: =SUM(Q9:Q50) -> 1.0587662e+12 | S51: =SUM(S9:S50) -> 708163280 | W51: =SUM(W9:W50) -> 1713694254865 | Y51: =SUM(Y9:Y50) -> 1.9492681e+12 | AA51: =SUM(AA9:AA50) -> 87.68

Sheet سپرده کالایی
A1: صندوق سرمایه‌گذاری مشترک ایساتیس پویای یزد
A2: صورت وضعیت پرتفوی
A3: برای ماه منتهی به 1405/05/27
A4: -1 | B4: سرمایه گذاری ها
A5: -1-1 | C5: سرمایه گذاری در سپرده کالایی
E6: 1405/03/27 | K6: تغییرات طی دوره | S6: 1405/04/27
E7: تعداد | G7: بهای تمام شده | I7: خالص ارزش فروش | K7: خرید طی دوره | O7: فروش طی دوره | S7: تعداد | U7: قیمت بازار هر سهم | W7: بهای تمام شده | Y7: خالص ارزش فروش | AA7: درصد به کل دارایی ها
A8: نام شرکت | K8: تعداد | M8: بهای تمام شده | O8: تعداد | Q8: مبلغ فروش
A9: شمش طلا GoldBar | E9: 1500 | G9: 40112698205 | I9: 3.7555549e+10 | K9: 0 | M9: 0 | O9: 0 | Q9: 0 | S9: 1500 | U9: 25649730 | W9: 40112698205 | Y9: 38382255972 | AA9: 1.73
A10: شمش نقره SilverBar | E10: 2 | G10: 10621404 | I10: 7829095 | K10: 0 | M10: 0 | O10: 0 | Q10: 0 | S10: 2 | U10: 4064230 | W10: 10621404 | Y10: 8108951.7 | AA10: 0
A11: جمع | E11: =SUM(E9:E10) -> 1502 | G11: =SUM(G9:G10) -> 40123319609 | I11: =SUM(I9:I10) -> 3.7563378e+10 | K11: =SUM(K9:K10) -> 0 | M11: =SUM(M9:M10) -> 0 | O11: =SUM(O9:O10) -> 0 | Q11: =SUM(Q9:Q10) -> 0 | S11: =SUM(S9:S10) -> 1502 | U11: =SUM(U9:U10) -> 29713960 | W11: =SUM(W9:W10) -> 40123319609 | Y11: =SUM(Y9:Y10) -> 3.8390365e+10 | AA11: =SUM(AA9:AA10) -> 1.73

Sheet اوراق
A1: صندوق سرمایه‌گذاری مشترک ایساتیس پویای یزد
A2: صورت وضعیت پرتفوی
A3: برای ماه منتهی به 1405/05/27
A5: -3-1 | B5: سرمایه‌گذاری در اوراق بهادار با درآمد ثابت یا علی‌الحساب
A6: اطلاعات اوراق با درآمد ثابت | P6: 1405/04/27 | V6: تغییرات طی دوره | AD6: 1405/05/27
V7: خرید طی دوره | Z7: فروش طی دوره
A8: نام اوراق | D8: دارای مجوز از سازمان | F8: پذیرفته شده در بورس یا فرابورس | H8: تاریخ انتشار اوراق | J8: تاریخ سررسید | L8: نرخ سود اسمی | N8: نرخ سود موثر | P8: تعداد | R8: بهای تمام شده | T8: خالص ارزش فروش | V8: تعداد | X8: بهای تمام شده | Z8: تعداد | AB8: مبلغ فروش | AD8: تعداد | AF8: قیمت بازار هر سهم | AH8: بهای تمام شده | AJ8: خالص ارزش فروش | AL8: درصد به کل دارایی ها
A9: مرابحه عام دولت233-ش.خ061001 | D9: بله | F9: بله | H9: 1404/07/01 | J9: 1406/10/01 | L9: 12 | N9: 12 | P9: 0 | R9: 0 | T9: 0 | V9: 110000 | X9: 97792663687 | Z9: 110000 | AB9: 98051303313 | AD9: 0 | AF9: 0 | AH9: 0 | AJ9: 0 | AL9: 0
A10: اوراق تامین مالی جمعی ایساخیام | D10: بله | F10: خیر | H10: 1404/05/22 | J10: 1405/05/22 | L10: 44 | N10: 44 | P10: 10000000 | R10: =P10*1000 -> 10000000000 | T10: =R10 -> 10000000000 | Z10: 10000000 | AB10: =R10 -> 10000000000 | AD10: 0 | AF10: 0 | AH10: 0 | AJ10: 0 | AL10: =AJ10/$AJ$19 -> 0
A11: اوراق تامین مالی جمعی ایساطوسی | D11: بله | F11: خیر | H11: 1404/06/31 | J11: 1405/06/31 | L11: 43 | N11: 43 | P11: 5053392 | R11: =P11*1000 -> 5053392000 | T11: =R11 -> 5053392000 | AD11: =P11 -> 5053392 | AF11: 1000 | AH11: =R11 -> 5053392000 | AJ11: =AH11 -> 5053392000 | AL11: =AJ11/$AJ$19 -> 0.028899605
A12: اوراق تامین مالی جمعی ایساقطعه | D12: بله | F12: خیر | H12: 1404/07/01 | J12: 1405/07/01 | L12: 44 | N12: 44 | P12: 25000000 | R12: =P12*1000 -> 25000000000 | T12: =R12 -> 25000000000 | AD12: =P12 -> 25000000 | AF12: 1000 | AH12: =R12 -> 25000000000 | AJ12: =AH12 -> 25000000000 | AL12: =AJ12/$AJ$19 -> 0.14297132
A13: اوراق تامین مالی جمعی ایسااخشک | D13: بله | F13: خیر | H13: 1404/11/13 | J13: 1405/11/13 | L13: 44 | N13: 44 | P13: 4806850 | R13: =P13*1000 -> 4806850000 | T13: =R13 -> 4806850000 | AD13: =P13 -> 4806850 | AF13: 1000 | AH13: =R13 -> 4806850000 | AJ13: =AH13 -> 4806850000 | AL13: =AJ13/$AJ$19 -> 0.027489668
A14: اوراق تامین مالی جمعی ایساگوهر | D14: بله | F14: خیر | H14: 1405/01/09 | J14: 1406/01/09 | L14: 45 | N14: 45 | P14: 20000000 | R14: =P14*1000 -> 20000000000 | T14: =R14 -> 20000000000 | AD14: 20000000 | AF14: 1000 | AH14: =AD14*AF14 -> 20000000000 | AJ14: =AH14 -> 20000000000 | AL14: =AJ14/$AJ$19 -> 0.11437706
A15: اوراق تامین مالی جمعی ایساولتا | D15: بله | F15: خیر | H15: 1405/05/07 | J15: 1406/05/07 | L15: 45 | N15: 45 | V15: 50000000 | X15: =V15*1000 -> 50000000000 | AD15: 50000000 | AF15: 1000 | AH15: =AD15*AF15 -> 50000000000 | AJ15: =AH15 -> 50000000000 | AL15: =AJ15/$AJ$19 -> 0.28594264
A16: اوراق تامین مالی جمعی ایساآهکی | D16: بله | F16: خیر | H16: 1405/05/17 | J16: 1406/05/17 | L16: 46 | N16: 46 | V16: 30000000 | X16: =V16*1000 -> 30000000000 | AD16: 30000000 | AF16: 1000 | AH16: =AD16*AF16 -> 30000000000 | AJ16: =AH16 -> 30000000000 | AL16: =AJ16/$AJ$19 -> 0.17156559
A17: اوراق تامین مالی جمعی ایسااویل | D17: بله | F17: خیر | H17: 1405/05/20 | J17: 1406/05/20 | L17: 45 | N17: 45 | V17: 20000000 | X17: =V17*1000 -> 20000000000 | AD17: 20000000 | AF17: 1000 | AH17: =AD17*AF17 -> 20000000000 | AJ17: =AH17 -> 20000000000 | AL17: =AJ17/$AJ$19 -> 0.11437706
A18: اوراق تامین مالی جمعی ایساموتو | D18: بله | F18: خیر | H18: 1405/05/19 | J18: 1406/05/19 | L18: 46 | N18: 46 | V18: 20000000 | X18: =V18*1000 -> 20000000000 | AD18: 20000000 | AF18: 1000 | AH18: =AD18*AF18 -> 20000000000 | AJ18: =AH18 -> 20000000000 | AL18: =AJ18/$AJ$19 -> 0.11437706
A19: جمع | P19: =SUM(P9:P18) -> 64860242 | R19: =SUM(R9:R18) -> 64860242000 | T19: =SUM(T9:T18) -> 64860242000 | V19: =SUM(V9:V18) -> 120110000 | X19: =SUM(X9:X18) -> 217792663687 | Z19: =SUM(Z9:Z18) -> 10110000 | AB19: =SUM(AB9:AB18) -> 108051303313 | AD19: =SUM(AD9:AD18) -> 174860242 | AH19: =SUM(AH9:AH18) -> 174860242000 | AJ19: =SUM(AJ9:AJ18) -> 174860242000 | AL19: =SUM(AL9:AL18) -> 1

Sheet اوراق مشتقه
A1: صندوق سرمایه‌گذاری مشترک ایساتیس پویای یزد
A2: صورت وضعیت پرتفوی
A3: برای ماه منتهی به 1405/05/27
A5: اطلاعات آماری مرتبط با موقعیت های اخذ شده در اوراق اختیار معامله توسط صندوق سرمایه گذاری:
C6: 1405/04/27 | O6: 1405/05/27
A7: نام سهام | C7: نوع اختیار | E7: نوع موقعیت | G7: استراتژی ماخوذه | I7: تعداد اوراق | K7: قیمت اعمال | M7: تاریخ اعمال | O7: نوع اختیار | Q7: نوع موقعیت | S7: استراتژی ماخوذه | U7: تعداد اوراق | W7: قیمت اعمال | Y7: تاریخ اعمال
A8: اختیارخ شپنا-11000-1405/06/18 | C8: اختیار خرید | E8: موقعیت فروش | G8: - | I8: 5000000 | K8: 11000 | M8: 1405/06/18 | O8: اختیار خرید | Q8: موقعیت فروش | S8: - | U8: 10037000 | W8: 10260 | Y8: 1405/06/18
A9: اختیارخ شپنا-10000-1405/06/18 | C9: اختیار خرید | E9: موقعیت فروش | G9: - | I9: 5000000 | K9: 10000 | M9: 1405/06/18 | O9: اختیار خرید | Q9: - | S9: - | U9: 0 | W9: 0 | Y9: -
A10: اختیارخ وتجارت-700-1405/06/18 | C10: اختیار خرید | E10: موقعیت فروش | G10: - | I10: 10220000 | K10: 700 | M10: 1405/06/18 | O10: اختیار خرید | Q10: - | S10: - | U10: 0 | W10: 0 | Y10: -
A11: اختیارخ وبملت-1400-1405/05/20 | C11: اختیار خرید | E11: موقعیت فروش | G11: - | I11: 51000000 | K11: 1400 | M11: 1405/05/20 | O11: اختیار خرید | Q11: - | S11: - | U11: 0 | W11: 0 | Y11: -
A12: اختیارخ شپنا-9000-1405/06/18 | C12: اختیار خرید | E12: موقعیت فروش | G12: - | I12: 3000000 | K12: 9000 | M12: 1405/06/18 | O12: اختیار خرید | Q12: موقعیت فروش | S12: - | U12: 1003000 | W12: 8260 | Y12: 1405/06/18
A13: اختیارخ شپنا-8000-1405/06/18 | C13: اختیار خرید | E13: موقعیت فروش | G13: - | I13: 1000000 | K13: 8000 | M13: 1405/06/18 | O13: اختیار خرید | Q13: موقعیت فروش | S13: - | U13: 627000 | W13: 7260 | Y13: 1405/06/18
A14: اختیارخ وتجارت-600-1405/06/18 | C14: اختیار خرید | E14: موقعیت فروش | G14: - | I14: 99000000 | K14: 600 | M14: 1405/06/18 | O14: اختیار خرید | Q14: موقعیت فروش | S14: - | U14: 72000000 | W14: 591 | Y14: 1405/06/18
A15: اختیارخ شپنا-7500-1405/06/18 | C15: اختیار خرید | E15: موقعیت فروش | G15: - | I15: 2000000 | K15: 7500 | M15: 1405/06/18 | O15: اختیار خرید | Q15: موقعیت فروش | S15: - | U15: 1000000 | W15: 6760 | Y15: 1405/06/18
A16: اختیارخ شستا-2400-1405/05/14 | C16: اختیار خرید | E16: موقعیت فروش | G16: - | I16: 46000000 | K16: 2400 | M16: 1405/05/14 | O16: اختیار خرید | Q16: - | S16: - | U16: 0 | W16: 0 | Y16: -
A17: اختیارخ شپنا-12000-1405/06/18 | C17: اختیار خرید | E17: موقعیت فروش | G17: - | I17: 4000000 | K17: 12000 | M17: 1405/06/18 | O17: اختیار خرید | Q17: موقعیت فروش | S17: - | U17: 1000000 | W17: 11260 | Y17: 1405/06/18
A18: اختیارخ شستا-2200-1405/05/14 | C18: اختیار خرید | E18: موقعیت فروش | G18: - | I18: 34000000 | K18: 2200 | M18: 1405/05/14 | O18: اختیار خرید | Q18: - | S18: - | U18: 0 | W18: 0 | Y18: -
A19: اختیارخ شستا-2800-1405/06/11 | C19: اختیار خرید | E19: - | G19: - | I19: 0 | K19: 0 | M19: - | O19: اختیار خرید | Q19: موقعیت فروش | S19: - | U19: 25000000 | W19: 2800 | Y19: 1405/06/11
... A21: اختیارخ وبملت-1400-1405/06/18 | C21: اختیار خرید | E21: - | G21: - | I21: 0 | K21: 0 | M21: - | O21: اختیار خرید | Q21: موقعیت فروش | S21: - | U21: 95000000 | W21: 1354 | Y21: 1405/06/18
A22: جمع | I22: =SUM(I8:I21) -> 260220000 | U22: =SUM(U8:U21) -> 243667000

Sheet تعدیل قیمت
A1: صندوق سرمایه‌گذاری مشترک ایساتیس پویای یزد
A2: صورت وضعیت پرتفوی
A3: برای ماه منتهی به 1405/05/27
A4: اوراق بهاداری که ارزش آنها در تاریخ گزارش تعدیل شده
A5: (بر اساس دستورالعمل نحوه تعیین قیمت خرید و فروش اوراق بهادار در صندوق های سرمایه گذاری)
C7: 1405/05/27
A8: نام اوراق بهادار | C8: تعداد | E8: قیمت پایانی | G8: قیمت تعدیل شده | I8: درصد تعدیل | K8: خالص ارزش فروش تعدیل شده | M8: دلیل تعدیل
A9: فولاد خوزستان | C9: 15000000 | E9: 2012 | G9: -40 | I9: -101.99% | K9: 18108000000 | M9: اخبار
A10: جمع | C10: =SUM(C9) -> 15000000 | K10: =SUM(K9) -> 18108000000

Sheet سپرده
A1: صندوق سرمایه‌گذاری مشترک ایساتیس پویای یزد
A2: صورت وضعیت پرتفوی
A3: برای ماه منتهی به 1405/05/27
A5: -4-1 | B5: سرمایه‌گذاری در سپرده‌ بانکی
D6: 1405/04/27 | F6: تغییرات طی دوره | J6: 1405/05/27
A8: سپرده های بانکی | D8: مبلغ | F8: افزایش | H8: کاهش | J8: مبلغ | L8: درصد به کل دارایی ها
A9: بانک سامان | D9: 11971141 | F9: 36363805156 | H9: 23161100000 | J9: 13214676297 | L9: =J9/$J$13 -> 0.74427768
A10: بانک ملی | D10: 1448352 | F10: 12253 | H10: 60000 | J10: 1400605 | L10: =J10/$J$13 -> 7.8884947e-05
A11: بانک خاورمیانه | D11: 12422049212 | F11: 367500795485 | H11: 375386656242 | J11: 4536188455 | L11: =J11/$J$13 -> 0.25548744 | XFD11: =SUM(D11:XFC11) -> 7.5984569e+11
A12: بانک پاسارگاد | D12: 2757972 | F12: 11662 | H12: 0 | J12: 2769634 | L12: =J12/$J$13 -> 0.00015599147
A13: جمع | D13: =SUM(D9:D12) -> 12438226677 | F13: =SUM(F9:F12) -> 403864624556 | H13: =SUM(H9:H12) -> 398547816242 | J13: =SUM(J9:J12) -> 17755034991 | L13: =SUM(L9:L12) -> 1

Sheet درآمد
A1: صندوق سرمایه‌گذاری مشترک ایساتیس پویای یزد
A2: صورت وضعیت درآمدها
A3: برای ماه منتهی به 1405/05/27
A5: -2 | B5: درآمد حاصل از سرمایه گذاری ها
A7: شرح | D7: یادداشت | F7: مبلغ | H7: درصد از کل درآمدها | J7: درصد از کل دارایی ها
A8: درآمد حاصل از سرمایه گذاری در سهام و حق تقدم سهام | D8: 1-2 | F8: ='درآمد سرمایه گذاری در سهام'!J81 -> 418781292845 | H8: =F8/$F$13 -> 0.98011746 | J8: =F8/سهام!$Y$51 -> 0.21484028
A9: درآمد حاصل از سرمایه گذاری در سپرده کالایی | D9: 2-2 | F9: ='درآمد سرمایه گذاری درسپرده کالا'!J12 -> 826986987 | H9: =F9/$F$13 -> 0.0019354837 | J9: =F9/سهام!$Y$51 -> 0.00042425514
A10: درآمد حاصل از سرمایه گذاری در اوراق بهادار با درآمد ثابت | D10: 3-2 | F10: ='درآمد سرمایه گذاری در اوراق به'!J22 -> 6010696822 | H10: =F10/$F$13 -> 0.01406746 | J10: =F10/سهام!$Y$51 -> 0.0030835661
A11: درآمد حاصل از سرمایه گذاری در سپرده بانکی و گواهی سپرده | D11: 4-2 | F11: ='درآمد سپرده بانکی'!D12 -> 1650581 | H11: =F11/$F$13 -> 3.8630266e-06 | J11: =F11/سهام!$Y$51 -> 8.4676963e-07
A12: سایر درآمدها | D12: 5-2 | F12: ='سایر درآمدها'!D11 -> 1656009478 | H12: =F12/$F$13 -> 0.0038757314 | J12: =F12/سهام!$Y$51 -> 0.00084955451
A13: جمع | F13: =SUM(F8:F12) -> 427276636713 | H13: =SUM(H8:H12) -> 1 | J13: =SUM(J8:J12) -> 0.2191985

Sheet درآمد سرمایه گذاری در سهام
A1: صندوق سرمایه‌گذاری مشترک ایساتیس پویای یزد
A2: صورت وضعیت درآمدها
A3: برای ماه منتهی به 1405/05/27
A5: -1-2 | B5: درآمد حاصل از سرمایه­گذاری در سهام و حق تقدم سهام
D6: طی ماه | N6: از ابتدای سال مالی
J7: جمع | T7: جمع
A8: سهام | D8: درآمد سود سهام | F8: درآمد تغییر ارزش | H8: درآمد فروش | J8: مبلغ | L8: درصد از کل درآمدها | N8: درآمد سود سهام | P8: درآمد تغییر ارزش | R8: درآمد فروش | T8: مبلغ | V8: درصد از کل درآمدها
A9: سرمایه‌گذاری‌ سپه‌ | D9: 0 | F9: 0 | H9: -519961439 | J9: -519961439 | L9: -0.15 | N9: 0 | P9: 0 | R9: 349999109 | T9: 349999109 | V9: 0.05
A10: فولاد مبارکه اصفهان | D10: 1512218978 | F10: 0 | H10: -9317494221 | J10: -7805275243 | L10: -2.25 | N10: 1512218978 | P10: 0 | R10: -9317494221 | T10: -7805275243 | V10: -1.13
A11: پخش هجرت | D11: 0 | F11: 0 | H11: 55021193967 | J11: 55021193967 | L11: 15.84 | N11: 4140578778 | P11: 0 | R11: 55021193967 | T11: 59161772745 | V11: 8.58
A12: داروسازی دانا | D12: 0 | F12: 0 | H12: 207928548 | J12: 207928548 | L12: 0.06 | N12: 0 | P12: 0 | R12: 207928548 | T12: 207928548 | V12: 0.03
A13: کشتیرانی جمهوری اسلامی ایران | D13: 0 | F13: 0 | H13: 59188215 | J13: 59188215 | L13: 0.02 | N13: 0 | P13: 0 | R13: 59188215 | T13: 59188215 | V13: 0.01
A14: ایران‌ خودرو | D14: 0 | F14: 0 | H14: -2874676945 | J14: -2874676945 | L14: -0.83 | N14: 0 | P14: 0 | R14: -2874676945 | T14: -2874676945 | V14: -0.42
A15: شرکت صنایع غذایی مینو شرق | D15: 0 | F15: 0 | H15: 12820975054 | J15: 12820975054 | L15: 3.69 | N15: 0 | P15: 0 | R15: 12820975054 | T15: 12820975054 | V15: 1.86
A16: س.کشت ودام صنایع لبنی تامین | D16: 0 | F16: 0 | H16: 693790 | J16: 693790 | L16: 0 | N16: 0 | P16: 0 | R16: 693790 | T16: 693790 | V16: 0
A17: ملی‌ صنایع‌ مس‌ ایران‌ | D17: 0 | F17: 0 | H17: 3529282858 | J17: 3529282858 | L17: 1.02 | N17: 0 | P17: 0 | R17: 4065108983 | T17: 4065108983 | V17: 0.59
A18: معدنی‌وصنعتی‌چادرملو | D18: 0 | F18: 0 | H18: 64502142 | J18: 64502142 | L18: 0.02 | N18: 1045837673 | P18: 0 | R18: 3076327657 | T18: 4122165330 | V18: 0.6
A19: سرمایه گذاری دارویی تامین | D19: 0 | F19: 7921105335 | H19: -19225316582 | J19: -11304211247 | L19: -3.25 | N19: 0 | P19: 1544575414 | R19: 9019800302 | T19: 10564375716 | V19: 1.53
A20: پویا زرکان آق دره | D20: 0 | F20: 0 | H20: 51412482498 | J20: 51412482498 | L20: 14.8 | N20: 0 | P20: 0 | R20: 51412482498 | T20: 51412482498 | V20: 7.45
... A80: البرزدارو | D80: 0 | F80: 1076095311 | H80: 0 | J80: 1076095311 | L80: 0.31 | N80: 0 | P80: 1076095311 | R80: 0 | T80: 1076095311 | V80: 0.16
A81: جمع | D81: =SUM(D9:D80) -> 47978090541 | F81: =SUM(F9:F80) -> 265229779328 | H81: =SUM(H9:H80) -> 105573422976 | J81: =SUM(J9:J80) -> 418781292845 | L81: =SUM(L9:L80) -> 120.58 | N81: =SUM(N9:N80) -> 66900262345 | P81: =SUM(P9:P80) -> 244023985770 | R81: =SUM(R9:R80) -> 357690466873 | T81: 654874484443 | V81: =SUM(V9:V80) -> 96.93

Sheet درآمد سرمایه گذاری درسپرده کالا
A1: صندوق سرمایه‌گذاری مشترک ایساتیس پویای یزد
A2: صورت وضعیت درآمدها
A3: برای ماه منتهی به 1405/05/27
A5: -2-2 | B5: درآمد حاصل از سرمایه­گذاری در سپرده کالایی
D6: طی ماه | N6: از ابتدای سال مالی
J7: جمع | T7: جمع
A8: سهام | D8: درآمد سود سهام | F8: درآمد تغییر ارزش | H8: درآمد فروش | J8: مبلغ | L8: درصد از کل درآمدها | N8: درآمد سود سهام | P8: درآمد تغییر ارزش | R8: درآمد فروش | T8: مبلغ | V8: درصد از کل درآمدها
A9: شمش طلا GoldBar | D9: 0 | F9: 826707130 | H9: 0 | J9: 826707130 | L9: 0.24 | N9: 0 | P9: -1730442232 | R9: -12058745590 | T9: -13789187822 | V9: -2
A10: شمش نقره SilverBar | D10: 0 | F10: 279857 | H10: 0 | J10: 279857 | L10: 0 | N10: 0 | P10: -2512452 | R10: 50469879 | T10: 47957427 | V10: 0.01
A11: میلگرد SteelRebar | D11: 0 | F11: 0 | H11: 0 | J11: 0 | L11: 0 | N11: 0 | P11: 0 | R11: 999850 | T11: 999850 | V11: 0
A12: جمع | D12: =SUM(D9:D9) -> 0 | F12: =SUM(F9:F11) -> 826986987 | H12: =SUM(H9:H11) -> 0 | J12: =SUM(J9:J11) -> 826986987 | L12: =SUM(L9:L11) -> 0.24 | N12: =SUM(N9:N9) -> 0 | P12: =SUM(P9:P11) -> -1732954684 | R12: =SUM(R9:R11) -> -12007275861 | T12: =SUM(T9:T11) -> -13740230545 | V12: =SUM(V9:V11) -> -1.99

Sheet درآمد سرمایه گذاری در اوراق به
A1: صندوق سرمایه‌گذاری مشترک ایساتیس پویای یزد
A2: صورت وضعیت درآمدها
A3: برای ماه منتهی به 1405/05/27
A5: -3-2 | B5: درآمد حاصل از سرمایه­گذاری در اوراق بهادار با درآمد ثابت:
D6: طی ماه | L6: از ابتدای سال مالی
A8: عنوان | D8: درآمد سود اوراق | F8: درآمد تغییر ارزش | H8: درآمد فروش | J8: جمع | L8: درآمد سود اوراق | N8: درآمد تغییر ارزش | P8: درآمد فروش | R8: جمع
A9: مرابحه عام دولت233-ش.خ061001 | D9: 1389847679 | F9: 0 | H9: 258639626 | J9: 1648487305 | L9: 1389847679 | N9: 0 | P9: 258639626 | R9: 1648487305
A10: مرابحه عام دولت256-ش.خ070318 | D10: 0 | F10: 0 | H10: 0 | J10: 0 | L10: 3777335510 | N10: 0 | P10: 775007700 | R10: 4552343210
A11: مرابحه عام دولت 166-ش.خ050419 | D11: 0 | F11: 0 | H11: 0 | J11: 0 | L11: 86758201 | N11: 0 | P11: 9233751 | R11: 95991952
A12: مرابحه عام دولت211-ش.خ050528 | D12: 0 | F12: 0 | H12: 0 | J12: 0 | L12: 1427654112 | N12: 0 | P12: 394892625 | R12: 1822546737
A13: اوراق تامین مالی جمعی ایساخیام | D13: 277260310 | J13: =D13 -> 277260310 | L13: 0 | R13: =L13 -> 0
A14: اوراق تامین مالی جمعی ایساطوسی | D14: 184552641 | J14: =D14 -> 184552641 | L14: 351245349 | R14: =L14 -> 351245349
A15: اوراق تامین مالی جمعی ایساقطعه | D15: 934246566 | J15: =D15 -> 934246566 | L15: 1808219133 | R15: =L15 -> 1808219133
A16: اوراق تامین مالی جمعی ایسااخشک | D16: 179614000 | J16: =D16 -> 179614000 | L16: 121622022 | R16: =L16 -> 121622022
A17: اوراق تامین مالی جمعی ایساگوهر | D17: 764336000 | J17: =D17 -> 764336000 | L17: 1282112000 | R17: =L17 -> 1282112000
A18: اوراق تامین مالی جمعی ایساولتا | D18: 1232600000 | J18: =D18 -> 1232600000 | L18: 1232600000 | R18: =L18 -> 1232600000
A19: اوراق تامین مالی جمعی ایساآهکی | D19: 415800000 | J19: =D19 -> 415800000 | L19: 415800000 | R19: =L19 -> 415800000
A20: اوراق تامین مالی جمعی ایسااویل | D20: 201600000 | J20: =D20 -> 201600000 | L20: 201600000 | R20: =L20 -> 201600000
A21: اوراق تامین مالی جمعی ایساموتو | D21: 172200000 | J21: =D21 -> 172200000 | L21: 172200000 | R21: =L21 -> 172200000
A22: جمع | D22: =SUM(D9:D21) -> 5752057196 | F22: 0 | H22: =SUM(H9:H21) -> 258639626 | J22: =SUM(J9:J21) -> 6010696822 | L22: =SUM(L9:L21) -> 12266994006 | N22: 0 | P22: =SUM(P9:P21) -> 1437773702 | R22: =SUM(R9:R21) -> 13704767708

Sheet درآمد سپرده بانکی
A1: صندوق سرمایه‌گذاری مشترک ایساتیس پویای یزد
A2: صورت وضعیت درآمدها
A3: برای ماه منتهی به 1405/05/27
A5: -4-2 | B5: درآمد حاصل از سرمایه­گذاری در سپرده بانکی و گواهی سپرده
D6: طی ماه | H6: از ابتدای سال مالی
A7: نام سپرده بانکی | D7: سود سپرده بانکی و گواهی سپرده | F7: درصد سود به میانگین سپرده | H7: سود سپرده بانکی و گواهی سپرده | J7: درصد سود به میانگین سپرده
A8: بانک سامان | D8: 50796 | H8: 201645
A9: بانک ملی | D9: 12253 | H9: 45787
A10: بانک خاورمیانه | D10: 1575870 | H10: 22164198
A11: بانک پاسارگاد | D11: 11662 | H11: 68189
A12: جمع | D12: =SUM(D8:D11) -> 1650581 | H12: =SUM(H8:H11) -> 22479819

Sheet سایر درآمدها
A1: صندوق سرمایه‌گذاری مشترک ایساتیس پویای یزد
A2: صورت وضعیت درآمدها
A3: برای ماه منتهی به 1405/05/27
A5: -5-2 | B5: سایر درآمدها
D6: طی ماه | F6: 1405/05/27
A7: سایر درآمدها | D7: مبلغ | F7: مبلغ
A8: سایر درآمدها | D8: 1632124 | F8: 433880833
A9: معین برای سایر درآمدهای تنزیل سود بانک | D9: 0 | F9: 0
A10: تعدیل کارمزد کارگزار | D10: 1654377354 | F10: 5007809882
A11: جمع | D11: =SUM(D8:D10) -> 1656009478 | F11: =SUM(F8:F10) -> 5441690715

Sheet درآمد سود سهام
A1: صندوق سرمایه‌گذاری مشترک ایساتیس پویای یزد
A2: صورت وضعیت درآمدها
A3: برای ماه منتهی به 1405/05/27
A5: درآمد سود سهام
A6: نام سهام | C6: اطلاعات مجمع | I6: طی ماه | O6: از ابتدای سال مالی
C7: تاریخ تشکیل مجمع | E7: تعداد سهام متعلقه در زمان مجمع | G7: سود متعلق به هر سهم | I7: جمع درآمد سود سهام | K7: هزینه تنزیل | M7: خالص درآمد سود سهام | O7: جمع درآمد سود سهام | Q7: هزینه تنزیل | S7: خالص درآمد سود سهام
A8: فولاد امیرکبیرکاشان | C8: 1405/03/05 | E8: 8865604 | G8: 475 | I8: 0 | K8: 0 | M8: 0 | O8: 4211161900 | Q8: 104083494 | S8: 4107078406
A9: پالایش نفت اصفهان | C9: 1405/04/30 | E9: 24700000 | G9: 740 | I9: 18278000000 | K9: 247000000 | M9: 18031000000 | O9: 18278000000 | Q9: 247000000 | S9: 18031000000
A10: معدنی‌وصنعتی‌چادرملو | C10: 1405/02/31 | E10: 5232770 | G10: 200 | I10: 0 | K10: 0 | M10: 0 | O10: 1046554000 | Q10: 716327 | S10: 1045837673
A11: فولاد مبارکه اصفهان | C11: 1405/05/11 | E11: 28380000 | G11: 55 | I11: 1560900000 | K11: 48681022 | M11: 1512218978 | O11: 1560900000 | Q11: 48681022 | S11: 1512218978
A12: سیمان آبیک | C12: 1405/03/25 | E12: 600000 | G12: 9700 | I12: 0 | K12: 0 | M12: 0 | O12: 5820000000 | Q12: 0 | S12: 5820000000
A13: بانک ملت | C13: 1405/04/31 | E13: 145951402 | G13: 46 | I13: 6713764492 | K13: 0 | M13: 6713764492 | O13: 6713764492 | Q13: 0 | S13: 6713764492
A14: بانک تجارت | C14: 1405/04/31 | E14: 210000000 | G14: 9 | I14: 1890000000 | K14: 0 | M14: 1890000000 | O14: 1890000000 | Q14: 0 | S14: 1890000000
A15: صنایع پتروشیمی کرمانشاه | C15: 1405/04/17 | E15: 1 | G15: 1227 | I15: 0 | K15: 0 | M15: 0 | O15: 1227 | Q15: 57 | S15: 1170
A16: سرمایه گذاری ایساتیس پویا | C16: 1405/04/31 | E16: 6125000 | G16: 150 | I16: 918750000 | K16: 3135666 | M16: 915614334 | O16: 918750000 | Q16: 3135666 | S16: 915614334
A17: کویر تایر | C17: 1405/01/31 | E17: 5000000 | G17: 580 | I17: 0 | K17: 0 | M17: 0 | O17: 2900000000 | Q17: 0 | S17: 2900000000
A18: دامداری تلیسه نمونه | C18: 1405/04/30 | E18: 2100000 | G18: 1110 | I18: 2331000000 | K18: 53048193 | M18: 2277951807 | O18: 2331000000 | Q18: 53048193 | S18: 2277951807
A19: کشاورزی و دامپروری بینالود | C19: 1405/04/09 | E19: 200000 | G19: 1360 | I19: 0 | K19: 0 | M19: 0 | O19: 272000000 | Q19: 4579125 | S19: 267420875
... A25: رهیاب پیام گستران | C25: 1405/04/31 | E25: 585000 | G25: 414 | I25: 242190000 | K25: 31213031 | M25: 210976969 | O25: 242190000 | Q25: 31213031 | S25: 210976969
A26: جمع | I26: =SUM(I8:I25) -> 48661439292 | K26: =SUM(K8:K25) -> 683348751 | M26: =SUM(M8:M25) -> 47978090541 | O26: =SUM(O8:O25) -> 67993156419 | Q26: =SUM(Q8:Q25) -> 1092894074 | S26: =SUM(S8:S25) -> 66900262345

Sheet سود اوراق بهادار
A1: صندوق سرمایه‌گذاری مشترک ایساتیس پویای یزد
A2: صورت وضعیت درآمدها
A3: برای ماه منتهی به 1405/05/27
A5: سود اوراق بهادار با درآمد ثابت
A6: شرح | J6: طی ماه | P6: از ابتدای سال مالی
C7: تاریخ دریافت سود | E7: تاریخ سررسید | H7: نرخ سود علی الحساب | J7: درآمد سود | L7: هزینه تنزیل | N7: خالص درآمد | P7: درآمد سود | R7: هزینه تنزیل | T7: خالص درآمد
A8: مرابحه عام دولت256-ش.خ070318 | E8: 1407/03/18 | H8: 23 | J8: 0 | L8: 0 | N8: 0 | P8: 3777335510 | R8: 0 | T8: 3777335510
A9: مرابحه عام دولت233-ش.خ061001 | E9: 1406/10/01 | H9: 12 | J9: 1389847679 | L9: 0 | N9: 1389847679 | P9: 1389847679 | R9: 0 | T9: 1389847679
A10: مرابحه عام دولت211-ش.خ050528 | E10: 1405/05/28 | H10: 23 | J10: 0 | L10: 0 | N10: 0 | P10: 1427654112 | R10: 0 | T10: 1427654112
A11: مرابحه عام دولت 166-ش.خ050419 | E11: 1405/04/19 | H11: 23 | J11: 0 | L11: 0 | N11: 0 | P11: 86758201 | R11: 0 | T11: 86758201
A12: اوراق تامین مالی جمعی ایساخیام | E12: 1405/05/22 | H12: 44 | J12: ='درآمد سرمایه گذاری در اوراق به'!J13 -> 277260310 | N12: =J12 -> 277260310 | P12: ='درآمد سرمایه گذاری در اوراق به'!L13 -> 0 | T12: =P12 -> 0
A13: اوراق تامین مالی جمعی ایساطوسی | E13: 1405/06/31 | H13: 43 | J13: ='درآمد سرمایه گذاری در اوراق به'!J14 -> 184552641 | N13: =J13 -> 184552641 | P13: ='درآمد سرمایه گذاری در اوراق به'!L14 -> 351245349 | T13: =P13 -> 351245349
A14: اوراق تامین مالی جمعی ایساقطعه | E14: 1405/07/01 | H14: 44 | J14: ='درآمد سرمایه گذاری در اوراق به'!J15 -> 934246566 | N14: =J14 -> 934246566 | P14: ='درآمد سرمایه گذاری در اوراق به'!L15 -> 1808219133 | T14: =P14 -> 1808219133
A15: اوراق تامین مالی جمعی ایسااخشک | E15: 1405/11/13 | H15: 44 | J15: ='درآمد سرمایه گذاری در اوراق به'!J16 -> 179614000 | N15: =J15 -> 179614000 | P15: ='درآمد سرمایه گذاری در اوراق به'!L16 -> 121622022 | T15: =P15 -> 121622022
A16: اوراق تامین مالی جمعی ایساگوهر | E16: 1406/01/09 | H16: 45 | J16: ='درآمد سرمایه گذاری در اوراق به'!J17 -> 764336000 | N16: =J16 -> 764336000 | P16: ='درآمد سرمایه گذاری در اوراق به'!L17 -> 1282112000 | T16: =P16 -> 1282112000
A17: اوراق تامین مالی جمعی ایساولتا | E17: 1406/05/07 | H17: 45 | J17: ='درآمد سرمایه گذاری در اوراق به'!J18 -> 1232600000 | N17: =J17 -> 1232600000 | P17: ='درآمد سرمایه گذاری در اوراق به'!L18 -> 1232600000 | T17: =P17 -> 1232600000
A18: اوراق تامین مالی جمعی ایساآهکی | E18: 1406/05/17 | H18: 46 | J18: ='درآمد سرمایه گذاری در اوراق به'!J19 -> 415800000 | N18: =J18 -> 415800000 | P18: ='درآمد سرمایه گذاری در اوراق به'!L19 -> 415800000 | T18: =P18 -> 415800000
A19: اوراق تامین مالی جمعی ایسااویل | E19: 1406/05/20 | H19: 45 | J19: ='درآمد سرمایه گذاری در اوراق به'!J20 -> 201600000 | N19: =J19 -> 201600000 | P19: ='درآمد سرمایه گذاری در اوراق به'!L20 -> 201600000 | T19: =P19 -> 201600000
A20: اوراق تامین مالی جمعی ایساموتو | E20: 1406/05/19 | H20: 46 | J20: ='درآمد سرمایه گذاری در اوراق به'!J21 -> 172200000 | N20: =J20 -> 172200000 | P20: ='درآمد سرمایه گذاری در اوراق به'!L21 -> 172200000 | T20: =P20 -> 172200000
A21: جمع | J21: =SUM(J8:J20) -> 5752057196 | L21: 0 | N21: =SUM(N8:N20) -> 5752057196 | P21: =SUM(P8:P20) -> 12266994006 | R21: =SUM(R8:R20) -> 0 | T21: =SUM(T8:T20) -> 12266994006

Sheet سود سپرده بانکی
A1: صندوق سرمایه‌گذاری مشترک ایساتیس پویای یزد
A2: صورت وضعیت درآمدها
A3: برای ماه منتهی به 1405/05/27
A5: سود سپرده بانکی
A6: شرح | C6: طی ماه | I6: از ابتدای سال مالی
C7: درآمد سود | E7: هزینه تنزیل | G7: خالص درآمد | I7: درآمد سود | K7: هزینه تنزیل | M7: خالص درآمد
A8: بانک سامان | C8: 50796 | E8: 0 | G8: 50796 | I8: 201645 | K8: 0 | M8: 201645
A9: بانک ملی | C9: 12253 | E9: 0 | G9: 12253 | I9: 45787 | K9: 0 | M9: 45787
A10: بانک خاورمیانه | C10: 1575870 | E10: 0 | G10: 1575870 | I10: 22164198 | K10: 0 | M10: 22164198
A11: بانک پاسارگاد | C11: 11662 | E11: 0 | G11: 11662 | I11: 68189 | K11: 0 | M11: 68189
A12: جمع | C12: =SUM(C8:C11) -> 1650581 | E12: =SUM(E8:E11) -> 0 | G12: =SUM(G8:G11) -> 1650581 | I12: =SUM(I8:I11) -> 22479819 | K12: =SUM(K8:K11) -> 0 | M12: =SUM(M8:M11) -> 22479819

Sheet درآمد ناشی از فروش
A1: صندوق سرمایه‌گذاری مشترک ایساتیس پویای یزد
A2: صورت وضعیت درآمدها
A3: برای ماه منتهی به 1405/05/27
A5: سود(زیان) حاصل از فروش اوراق بهادار
A6: شرح | C6: طی ماه | K6: از ابتدای سال مالی
C7: تعداد | E7: خالص بهای فروش | G7: ارزش دفتری | I7: سود و زیان ناشی از فروش | K7: تعداد | M7: خالص بهای فروش | O7: ارزش دفتری | Q7: سود و زیان ناشی از فروش
A8: سرمایه‌گذاری‌ سپه‌ | C8: 296052 | E8: 1254370230 | G8: 1774331669 | I8: -519961439 | K8: 4496053 | M8: 27296242111 | O8: 26946243002 | Q8: 349999109
A9: فولاد مبارکه اصفهان | C9: 28380000 | E9: 64402213159 | G9: 73719707380 | I9: -9317494221 | K9: 28380000 | M9: 64402213159 | O9: 73719707380 | Q9: -9317494221
A10: پخش هجرت | C10: 25000000 | E10: 162345295672 | G10: 107324101705 | I10: 55021193967 | K10: 25000000 | M10: 162345295672 | O10: 107324101705 | Q10: 55021193967
A11: داروسازی دانا | C11: 100000 | E11: 1402077517 | G11: 1194148969 | I11: 207928548 | K11: 100000 | M11: 1402077517 | O11: 1194148969 | Q11: 207928548
A12: کشتیرانی جمهوری اسلامی ایران | C12: 200000 | E12: 1432837887 | G12: 1373649672 | I12: 59188215 | K12: 200000 | M12: 1432837887 | O12: 1373649672 | Q12: 59188215
A13: ایران‌ خودرو | C13: 171082000 | E13: 86788389699 | G13: 89663066644 | I13: -2874676945 | K13: 171082000 | M13: 86788389699 | O13: 89663066644 | Q13: -2874676945
A14: شرکت صنایع غذایی مینو شرق | C14: 5639094 | E14: 44811055372 | G14: 31990080318 | I14: 12820975054 | K14: 5639094 | M14: 44811055372 | O14: 31990080318 | Q14: 12820975054
A15: س.کشت ودام صنایع لبنی تامین | C15: 647 | E15: 4802153 | G15: 4108363 | I15: 693790 | K15: 647 | M15: 4802153 | O15: 4108363 | Q15: 693790
A16: ملی‌ صنایع‌ مس‌ ایران‌ | C16: 2295595 | E16: 43384043089 | G16: 39854760231 | I16: 3529282858 | K16: 6295595 | M16: 98534410014 | O16: 94469301031 | Q16: 4065108983
A17: معدنی‌وصنعتی‌چادرملو | C17: 20000000 | E17: 50338074942 | G17: 50273572800 | I17: 64502142 | K17: 25232770 | M17: 63941955268 | O17: 60865627611 | Q17: 3076327657
A18: سرمایه گذاری دارویی تامین | C18: 2300000 | E18: 153730524128 | G18: 172955840710 | I18: -19225316582 | K18: 3500000 | M18: 229321683838 | O18: 220301883536 | Q18: 9019800302
A19: پویا زرکان آق دره | C19: 1150000 | E19: 221831882357 | G19: 170419399859 | I19: 51412482498 | K19: 1150000 | M19: 221831882357 | O19: 170419399859 | Q19: 51412482498
... A69: مرابحه عام دولت211-ش.خ050528 | C69: 0 | E69: 0 | G69: 0 | I69: 0 | K69: 120000 | M69: 118103423250 | O69: 117708530625 | Q69: 394892625
A70: جمع | C70: =SUM(C8:C69) -> 317431699 | E70: =SUM(E8:E69) -> 1156817525146 | G70: =SUM(G8:G69) -> 1050985462544 | I70: =SUM(I8:I69) -> 105832062602 | K70: =SUM(K8:K69) -> 518122224 | M70: =SUM(M8:M69) -> 3581866841241 | O70: =SUM(O8:O69) -> 3234745876527 | Q70: =SUM(Q8:Q69) -> 347120964714

Sheet درآمد اعمال اختیار
A1: صندوق سرمایه‌گذاری مشترک ایساتیس پویای یزد
A2: صورت وضعیت درآمدها
A3: برای ماه منتهی به 1405/05/27
A4: سود (زیان) ناشی از اعمال اختیار معامله سهام
E5: طی ماه | Y5: از ابتدای سال مالی
A6: نام سهم | C6: نام اختیار | E6: تاریخ اعمال | G6: تعداد | I6: قیمت اعمال | K6: ارزش اعمال | M6: ارزش دفتری اختیار | O6: بهای تمام شده سهم | Q6: کارمزد اعمال | S6: مالیات اعمال | U6: کارمزد فروش اختیار | W6: سود(زیان)اعمال | Y6: سود(زیان)اعمال
A7: شستا1 | C7: ضستا50491 | E7: 1405/05/14 | G7: 80000000 | I7: 105.0875 | K7: 8407000000 | M7: 4156848803 | O7: 0 | Q7: 6367846 | S7: 0 | U7: 5570225 | W7: -4256519043 | Y7: 4026662
A8: شستا1 | C8: ضستا60501 | E8: 1405/05/24 | G8: 31000000 | I8: 393.759 | K8: 12206529000 | M8: 12514513073 | O8: 0 | Q8: 9246223 | S8: 0 | U8: 7536122 | W8: 298737850 | Y8: 298737850
A9: شستا1 | C9: ضستا60511 | E9: 1405/05/24 | G9: 33000000 | I9: 240.8515 | K9: 7948099500 | M9: 8342675636 | O9: 0 | Q9: 6020512 | S9: 0 | U9: 4919084 | W9: 388555624 | Y9: 388555624
A10: شستا1 | C10: ضستا50481 | E10: 1405/05/14 | G10: 34000000 | I10: 300 | K10: 10200000000 | M10: 8119844555 | O10: 0 | Q10: 7726483 | S10: 0 | U10: 4671283 | W10: -2087881928 | Y10: -2087881928
A11: شپنا1 | C11: ضشنا60431 | E11: 1405/05/14 | G11: 205000 | I11: 4417 | K11: 905485000 | M11: 829211397 | O11: 0 | Q11: 685894 | S11: 0 | U11: 2710289 | W11: -76959497 | Y11: -76959497
A12: شپنا1 | C12: ضشنا60431 | E12: 1405/05/19 | G12: 2000 | I12: 5100 | K12: 10200000 | M12: 8747369 | O12: 0 | Q12: 7726 | S12: 0 | U12: 2710289 | W12: -1460357 | Y12: -76959497
A13: شپنا1 | C13: ضشنا60431 | E13: 1405/05/24 | G13: 166000 | I13: 4000 | K13: 664000000 | M13: 780935993 | O13: 0 | Q13: 502980 | S13: 0 | U13: 2710289 | W13: 116433013 | Y13: -76959497
A14: شپنا1 | C14: ضشنا60461 | E14: 1405/05/19 | G14: 2074000 | I14: 2299.7589 | K14: 4.7697e+09 | M14: 3247496158 | O14: 0 | Q14: 3613045 | S14: 0 | U14: 10714035 | W14: -1.5258168e+09 | Y14: -1.5258168e+09
A15: شپنا1 | C15: ضشنا60421 | E15: 1405/05/14 | G15: 567000 | I15: 4872 | K15: 2762424000 | M15: 2551833521 | O15: 0 | Q15: 2092529 | S15: 0 | U15: 5633496 | W15: -212683008 | Y15: -212683008
A16: شپنا1 | C16: ضشنا60421 | E16: 1405/05/19 | G16: 433000 | I16: 5397.963 | K16: 2337317979 | M16: 2096295853 | O16: 0 | Q16: 1770511 | S16: 0 | U16: 5633496 | W16: -242792637 | Y16: -212683008
A17: شپنا1 | C17: ضشنا60441 | E17: 1405/05/19 | G17: 490000 | I17: 3995 | K17: 1957550000 | M17: 1504139750 | O17: 0 | Q17: 1482837 | S17: 0 | U17: 5226898 | W17: -454893087 | Y17: -454893087
A18: شپنا1 | C18: ضشنا60441 | E18: 1405/05/24 | G18: 1507000 | I18: 3092.1168 | K18: 4.65982e+09 | M18: 5610828575 | O18: 0 | Q18: 3529803 | S18: 0 | U18: 5226898 | W18: 9.4747875e+08 | Y18: -454893087
... A31: وتجارت1 | C31: ضجار60451 | E31: 1405/05/17 | G31: 10220000 | I31: 128.0215 | K31: 1308379730 | M31: 919103250 | O31: 0 | Q31: 991045 | S31: 0 | U31: 780215 | W31: -390267525 | Y31: -10075745
A32: شستا1 | C32: طستا30401 | G32: 0 | I32: 0 | K32: 0 | M32: 0 | O32: 0 | Q32: 0 | S32: 0 | U32: 0 | W32: 0 | Y32: 2942965808
A33: شستا1 | C33: طستا30441 | G33: 0 | I33: 0 | K33: 0 | M33: 0 | O33: 0 | Q33: 0 | S33: 0 | U33: 0 | W33: 0 | Y33: -1.2820602e+09
A34: شستا1 | C34: طستا30441 | G34: 0 | I34: 0 | K34: 0 | M34: 0 | O34: 0 | Q34: 0 | S34: 0 | U34: 0 | W34: 0 | Y34: -3.4999771e+08
A35: شستا1 | C35: ضستا40461 | G35: 0 | I35: 0 | K35: 0 | M35: 0 | O35: 0 | Q35: 0 | S35: 0 | U35: 0 | W35: 0 | Y35: -330783199
A36: شستا1 | C36: ضستا40461 | G36: 0 | I36: 0 | K36: 0 | M36: 0 | O36: 0 | Q36: 0 | S36: 0 | U36: 0 | W36: 0 | Y36: -4279055085
A37: شستا1 | C37: طستا30431 | G37: 0 | I37: 0 | K37: 0 | M37: 0 | O37: 0 | Q37: 0 | S37: 0 | U37: 0 | W37: 0 | Y37: -193423740
A38: شستا1 | C38: ضستا40451 | G38: 0 | I38: 0 | K38: 0 | M38: 0 | O38: 0 | Q38: 0 | S38: 0 | U38: 0 | W38: 0 | Y38: -1360513051
A39: شستا1 | C39: طستا30411 | G39: 0 | I39: 0 | K39: 0 | M39: 0 | O39: 0 | Q39: 0 | S39: 0 | U39: 0 | W39: 0 | Y39: 290097327
A40: شستا1 | C40: ضستا30411 | G40: 0 | I40: 0 | K40: 0 | M40: 0 | O40: 0 | Q40: 0 | S40: 0 | U40: 0 | W40: 0 | Y40: 4287343613
A41: شستا1 | C41: ضستا30411 | G41: 0 | I41: 0 | K41: 0 | M41: 0 | O41: 0 | Q41: 0 | S41: 0 | U41: 0 | W41: 0 | Y41: 406574064
A42: شستا1 | C42: ضستا30411 | G42: 0 | I42: 0 | K42: 0 | M42: 0 | O42: 0 | Q42: 0 | S42: 0 | U42: 0 | W42: 0 | Y42: 103129820
A43: شستا1 | C43: ضستا40471 | G43: 0 | I43: 0 | K43: 0 | M43: 0 | O43: 0 | Q43: 0 | S43: 0 | U43: 0 | W43: 0 | Y43: 719227500
... A78: وتجارت1 | C78: ضجار60471 | G78: 0 | I78: 0 | K78: 0 | M78: 0 | O78: 0 | Q78: 0 | S78: 0 | U78: 0 | W78: 0 | Y78: -14110594
A79: جمع | K79: =SUM(K7:K78) -> 9.6042775e+10 | M79: =SUM(M7:M78) -> 90846840330 | O79: =SUM(O7:O78) -> 0 | Q79: =SUM(Q7:Q78) -> 72750118 | S79: =SUM(S7:S78) -> 0 | U79: =SUM(U7:U78) -> 134941986 | W79: =SUM(W7:W78) -> -5.2686845e+09 | Y79: =SUM(Y7:Y78) -> 1.3566441e+10

Sheet درآمد ناشی از تغییر قیمت اوراق
A1: صندوق سرمایه‌گذاری مشترک ایساتیس پویای یزد
A2: صورت وضعیت درآمدها
A3: برای ماه منتهی به 1405/05/27
A5: درآمد ناشی از تغییر قیمت اوراق بهادار
A6: شرح | C6: طی ماه | K6: از ابتدای سال مالی
C7: تعداد | E7: خالص ارزش فروش | G7: ارزش دفتری | I7: سود و زیان ناشی از تغییر قیمت | K7: تعداد | M7: خالص ارزش فروش | O7: ارزش دفتری | Q7: سود و زیان ناشی از تغییر قیمت
A8: سیمان فارس و خوزستان | C8: 4300000 | E8: 136963028100 | G8: 137707878803 | I8: -744850703 | K8: 4300000 | M8: 136963028100 | O8: 137707878803 | Q8: -744850703
A9: گروه دارویی برکت | C9: 3000000 | E9: 12383529600 | G9: 11821408510 | I9: 562121089 | K9: 3000000 | M9: 12383529600 | O9: 11821408510 | Q9: 562121089
A10: سیمان باقران | C10: 600000 | E10: 160033305600 | G10: 126752569800 | I10: 33280735799 | K10: 600000 | M10: 160033305600 | O10: 121761086844 | Q10: 38272218756
A11: لابراتوارداروسازی‌ دکترعبیدی‌ | C11: 3041266 | E11: 58423775787 | G11: 55498496119 | I11: 2925279668 | K11: 3041266 | M11: 58423775787 | O11: 55498496119 | Q11: 2925279668
A12: رینگ اسپرت نور نی ریز | C12: 1325000 | E12: 23797115275 | G12: 24152099867 | I12: -354984592 | K12: 1325000 | M12: 23797115275 | O12: 21649469531 | Q12: 2147645743
A13: صنعت غذایی کورش | C13: 4600000 | E13: 89052263420 | G13: 84957725567 | I13: 4094537852 | K13: 4600000 | M13: 89052263420 | O13: 84957725567 | Q13: 4094537852
A14: پخش البرز | C14: 8400000 | E14: 100020816000 | G14: 93149637605 | I14: 6871178394 | K14: 8400000 | M14: 100020816000 | O14: 93149637605 | Q14: 6871178394
A15: پالایش نفت تهران | C15: 12000000 | E15: 62274865200 | G15: 62193242305 | I15: 81622894 | K15: 12000000 | M15: 62274865200 | O15: 62193242305 | Q15: 81622894
A16: چینی ایران | C16: 599999 | E16: 595361007 | G16: 595361007 | I16: 0 | K16: 599999 | M16: 595361007 | O16: 595361007 | Q16: 0
A17: صنعتی‌ بهشهر | C17: 183259 | E17: 2480330444 | G17: 1671131728 | I17: 809198716 | K17: 183259 | M17: 2480330444 | O17: 961732829 | Q17: 1518597615
A18: گسترش‌سرمایه‌گذاری‌ایران‌خودرو | C18: 2499999 | E18: 8657552286 | G18: 6859063631 | I18: 1798488655 | K18: 2499999 | M18: 8657552286 | O18: 6747433289 | Q18: 1910118997
A19: شمش طلا GoldBar | C19: 1500 | E19: 38382255972 | G19: 37555548842 | I19: 826707130 | K19: 1500 | M19: 38382255972 | O19: 40112698205 | Q19: -1730442232
... A44: ضشنا60431 | C44: 627000 | E44: 2622007323 | G44: 2622007323 | I44: 0 | K44: 627000 | M44: 2622007323 | O44: 2622007323 | Q44: 0
A45: جمع | C45: =SUM(C8:C44) -> 951831782 | E45: =SUM(E8:E44) -> 2043043377670 | G45: =SUM(G8:G44) -> 1776986611346 | I45: =SUM(I8:I44) -> 266056766315 | K45: =SUM(K8:K44) -> 951831782 | M45: =SUM(M8:M44) -> 2043043377670 | O45: =SUM(O8:O44) -> 1800752346575 | Q45: =SUM(Q8:Q44) -> 242291031086
